BEGIN:VCALENDAR
VERSION:2.0
PRODID:-//RMSC Solidarität Schwabach e.V. - ECPv6.15.20//NONSGML v1.0//EN
CALSCALE:GREGORIAN
METHOD:PUBLISH
X-ORIGINAL-URL:https://rmsc-solidaritaet-schwabach.de
X-WR-CALDESC:Veranstaltungen für RMSC Solidarität Schwabach e.V.
REFRESH-INTERVAL;VALUE=DURATION:PT1H
X-Robots-Tag:noindex
X-PUBLISHED-TTL:PT1H
BEGIN:VTIMEZONE
TZID:Europe/Berlin
BEGIN:DAYLIGHT
TZOFFSETFROM:+0100
TZOFFSETTO:+0200
TZNAME:CEST
DTSTART:20250330T010000
END:DAYLIGHT
BEGIN:STANDARD
TZOFFSETFROM:+0200
TZOFFSETTO:+0100
TZNAME:CET
DTSTART:20251026T010000
END:STANDARD
BEGIN:DAYLIGHT
TZOFFSETFROM:+0100
TZOFFSETTO:+0200
TZNAME:CEST
DTSTART:20260329T010000
END:DAYLIGHT
BEGIN:STANDARD
TZOFFSETFROM:+0200
TZOFFSETTO:+0100
TZNAME:CET
DTSTART:20261025T010000
END:STANDARD
BEGIN:DAYLIGHT
TZOFFSETFROM:+0100
TZOFFSETTO:+0200
TZNAME:CEST
DTSTART:20270328T010000
END:DAYLIGHT
BEGIN:STANDARD
TZOFFSETFROM:+0200
TZOFFSETTO:+0100
TZNAME:CET
DTSTART:20271031T010000
END:STANDARD
END:VTIMEZONE
BEGIN:VEVENT
DTSTART;TZID=Europe/Berlin:20260226T190000
DTEND;TZID=Europe/Berlin:20260226T210000
DTSTAMP:20260422T115828
CREATED:20260127T084536Z
LAST-MODIFIED:20260127T085833Z
UID:96187-1772132400-1772139600@rmsc-solidaritaet-schwabach.de
SUMMARY:Kegeltreff 🎳 2/26
DESCRIPTION:
URL:https://rmsc-solidaritaet-schwabach.de/event/kegeltreff-2-26/
LOCATION:Kegelbahn SC04\, Nördlinger Straße 48\, Schwabach\, 91126\, Germany
CATEGORIES:Gemeinschaft & Vereinsleben
END:VEVENT
END:VCALENDAR