BEGIN:VCALENDAR
VERSION:2.0
PRODID:-//RMSC Solidarität Schwabach e.V. - ECPv6.15.20//NONSGML v1.0//EN
CALSCALE:GREGORIAN
METHOD:PUBLISH
X-ORIGINAL-URL:https://rmsc-solidaritaet-schwabach.de
X-WR-CALDESC:Veranstaltungen für RMSC Solidarität Schwabach e.V.
REFRESH-INTERVAL;VALUE=DURATION:PT1H
X-Robots-Tag:noindex
X-PUBLISHED-TTL:PT1H
BEGIN:VTIMEZONE
TZID:Europe/Berlin
BEGIN:DAYLIGHT
TZOFFSETFROM:+0100
TZOFFSETTO:+0200
TZNAME:CEST
DTSTART:20250330T010000
END:DAYLIGHT
BEGIN:STANDARD
TZOFFSETFROM:+0200
TZOFFSETTO:+0100
TZNAME:CET
DTSTART:20251026T010000
END:STANDARD
BEGIN:DAYLIGHT
TZOFFSETFROM:+0100
TZOFFSETTO:+0200
TZNAME:CEST
DTSTART:20260329T010000
END:DAYLIGHT
BEGIN:STANDARD
TZOFFSETFROM:+0200
TZOFFSETTO:+0100
TZNAME:CET
DTSTART:20261025T010000
END:STANDARD
BEGIN:DAYLIGHT
TZOFFSETFROM:+0100
TZOFFSETTO:+0200
TZNAME:CEST
DTSTART:20270328T010000
END:DAYLIGHT
BEGIN:STANDARD
TZOFFSETFROM:+0200
TZOFFSETTO:+0100
TZNAME:CET
DTSTART:20271031T010000
END:STANDARD
END:VTIMEZONE
BEGIN:VEVENT
DTSTART;VALUE=DATE:20260510
DTEND;VALUE=DATE:20260511
DTSTAMP:20260422T104619
CREATED:20251111T144842Z
LAST-MODIFIED:20251111T144842Z
UID:94588-1778371200-1778457599@rmsc-solidaritaet-schwabach.de
SUMMARY:Bayern-Cup-Bezirksrunde
DESCRIPTION:
URL:https://rmsc-solidaritaet-schwabach.de/event/bayern-cup-bezirksrunde/
LOCATION:Charly-Mai-Sportanlage\, Kapellenstraße 41\, Fürth\, 90762\, Germany
CATEGORIES:Wettkämpfe
END:VEVENT
END:VCALENDAR